BEGIN:VCALENDAR
VERSION:2.0
PRODID:-//Tukios.com/
BEGIN:VEVENT
UID:996ec5e9-e3bd-47c2-bbdd-fa926004cd62@www.wilcoxfamilyfuneralhomeandcrematory.com
DTSTAMP:20260422T211727Z
DTSTART:20260423T190000Z
DTEND:20260423T210000Z
SUMMARY:Visitation
DESCRIPTION:
URL:https://www.wilcoxfamilyfuneralhomeandcrematory.com/obituaries/delia-leslie
LOCATION: 108 North Broadview Street  Greenbrier AR 72058
GEO:35.2492558;-92.386721
END:VEVENT
END:VCALENDAR