BEGIN:VCALENDAR
VERSION:2.0
PRODID:-//Tukios.com/
BEGIN:VEVENT
UID:2ba93594-8c34-4d30-9451-a8340aec821e@www.wilcoxfamilyfuneralhomeandcrematory.com
DTSTAMP:20260423T200003Z
DTSTART:20260427T160000Z
DTEND:20260427T170000Z
SUMMARY:Graveside Service
DESCRIPTION:
URL:https://www.wilcoxfamilyfuneralhomeandcrematory.com/obituaries/donald-vowell
LOCATION: 676 Arkansas 25  Greenbrier AR 72058
GEO:35.1790969;-92.4486683
END:VEVENT
END:VCALENDAR