BEGIN:VCALENDAR
VERSION:2.0
PRODID:-//Tukios.com/
BEGIN:VEVENT
UID:d94fada2-6ddb-4a24-8dd7-a39adfab9248@www.wilcoxfamilyfuneralhomeandcrematory.com
DTSTAMP:20260421T233840Z
DTSTART:20260523T190000Z
DTEND:20260523T200000Z
SUMMARY:Memorial Service
DESCRIPTION:
URL:https://www.wilcoxfamilyfuneralhomeandcrematory.com/obituaries/joy-gross
LOCATION:Crosspoint Baptist Church 48 Glenn Lane  Greenbrier AR 72058
GEO:35.2251529;-92.3804853
END:VEVENT
END:VCALENDAR