BEGIN:VCALENDAR
VERSION:2.0
PRODID:-//Tukios.com/
BEGIN:VEVENT
UID:6a381ab6-bdcd-4555-8308-fc35c66b66d5@www.wilcoxfamilyfuneralhomeandcrematory.com
DTSTAMP:20260425T191631Z
DTSTART:20260427T230000Z
DTEND:20260428T010000Z
SUMMARY:Visitation
DESCRIPTION:
URL:https://www.wilcoxfamilyfuneralhomeandcrematory.com/obituaries/linda-burroughs
LOCATION: 108 N Broadview St  Greenbrier AR 72058
GEO:35.2492558;-92.386721
END:VEVENT
END:VCALENDAR