BEGIN:VCALENDAR
VERSION:2.0
PRODID:-//Tukios.com/
BEGIN:VEVENT
UID:5f0a6553-8eb9-421c-a6a0-986a3682c857@www.wilcoxfamilyfuneralhomeandcrematory.com
DTSTAMP:20260420T210332Z
DTSTART:20260423T150000Z
DTEND:20260423T160000Z
SUMMARY:Visitation
DESCRIPTION:
URL:https://www.wilcoxfamilyfuneralhomeandcrematory.com/obituaries/mark-benight
LOCATION:First Baptist Church 43 Oak Tree Rd  Damascus AR 72039
GEO:35.3684526;-92.4097667
END:VEVENT
END:VCALENDAR