BEGIN:VCALENDAR
VERSION:2.0
PRODID:-//Tukios.com/
BEGIN:VEVENT
UID:f70d9a4d-1cc5-4eb9-977e-05ed7782f448@www.wilcoxfamilyfuneralhomeandcrematory.com
DTSTAMP:20260420T205336Z
DTSTART:20260423T160000Z
DTEND:20260423T170000Z
SUMMARY:Funeral Service
DESCRIPTION:
URL:https://www.wilcoxfamilyfuneralhomeandcrematory.com/obituaries/mark-benight
LOCATION:First Baptist Church 43 Oak Tree Road  Damascus AR 72039
GEO:35.3684526;-92.4097667
END:VEVENT
END:VCALENDAR