BEGIN:VCALENDAR
VERSION:2.0
PRODID:-//Tukios.com/
BEGIN:VEVENT
UID:5fecf49d-7195-4b9e-88ea-472dbfa43480@www.wilcoxfamilyfuneralhomeandcrematory.com
DTSTAMP:20260421T082127Z
DTSTART:20260426T190000Z
DTEND:20260427T000000Z
SUMMARY:Visitation
DESCRIPTION:
URL:https://www.wilcoxfamilyfuneralhomeandcrematory.com/obituaries/seldon-shaw
LOCATION: 108 North Broadview Street  Greenbrier AR 72058
GEO:35.2492558;-92.386721
END:VEVENT
END:VCALENDAR