BEGIN:VCALENDAR
VERSION:2.0
PRODID:-//Tukios.com/
BEGIN:VEVENT
UID:a628df82-ff07-4913-a347-fab2e55e4bdc@www.wilcoxfamilyfuneralhomeandcrematory.com
DTSTAMP:20260421T081918Z
DTSTART:20260427T150000Z
DTEND:20260427T160000Z
SUMMARY:Memorial Service
DESCRIPTION:
URL:https://www.wilcoxfamilyfuneralhomeandcrematory.com/obituaries/seldon-shaw
LOCATION: 108 North Broadview Street  Greenbrier AR 72058
GEO:35.2492558;-92.386721
END:VEVENT
END:VCALENDAR